0.25
0
0
-0.25
210000.125
3242999.875
