0.25
0
0
-0.25
210000.125
3239999.875
