0.3
0
0
-0.3
414000.15
4277999.85
