0.3
0
0
-0.3
411000.15
4271999.85
