0.3
0
0
-0.3
408000.15
4265999.85
