0.3
0
0
-0.3
405000.15
4277999.85
