0.3
0
0
-0.3
399000.15
4274999.85
