0.3
0
0
-0.3
384000.15
4280999.85
