0.3
0
0
-0.3
381000.15
4262999.85
