0.0500000000
0.0000000000
0.0000000000
-0.0500000000
418000.0250000000
2906999.9750000001
