0.0500000000
0.0000000000
0.0000000000
-0.0500000000
412000.0250000000
2916999.9750000001
