0.0500000000
0.0000000000
0.0000000000
-0.0500000000
405000.0250000000
2926999.9750000001
