0.0500000000
0.0000000000
0.0000000000
-0.0500000000
426000.0250000000
2873999.9750000001
