0.0500000000
0.0000000000
0.0000000000
-0.0500000000
425000.0250000000
2877999.9750000001
