0.0500000000
0.0000000000
0.0000000000
-0.0500000000
424000.0250000000
2866999.9750000001
