0.0500000000
0.0000000000
0.0000000000
-0.0500000000
423000.0250000000
2882999.9750000001
