0.0500000000
0.0000000000
0.0000000000
-0.0500000000
420000.0250000000
2895999.9750000001
