0.0500000000
0.0000000000
0.0000000000
-0.0500000000
419000.0250000000
2899999.9750000001
