0.0500000000
0.0000000000
0.0000000000
-0.0500000000
417000.0250000000
2889999.9750000001
