0.0500000000
0.0000000000
0.0000000000
-0.0500000000
320000.0250000000
3108999.9750000001
