0.0500000000
0.0000000000
0.0000000000
-0.0500000000
319000.0250000000
3124999.9750000001
