0.0500000000
0.0000000000
0.0000000000
-0.0500000000
317000.0250000000
3117999.9750000001
