0.0500000000
0.0000000000
0.0000000000
-0.0500000000
316000.0250000000
3123999.9750000001
