0.0500000000
0.0000000000
0.0000000000
-0.0500000000
349000.0250000000
3014999.9750000001
