0.0500000000
0.0000000000
0.0000000000
-0.0500000000
348000.0250000000
3010999.9750000001
