0.0500000000
0.0000000000
0.0000000000
-0.0500000000
347000.0250000000
3012999.9750000001
