0.0500000000
0.0000000000
0.0000000000
-0.0500000000
346000.0250000000
3018999.9750000001
