0.0500000000
0.0000000000
0.0000000000
-0.0500000000
344000.0250000000
3017999.9750000001
