0.0500000000
0.0000000000
0.0000000000
-0.0500000000
343000.0250000000
3016999.9750000001
