0.0500000000
0.0000000000
0.0000000000
-0.0500000000
342000.0250000000
3024999.9750000001
