0.0500000000
0.0000000000
0.0000000000
-0.0500000000
341000.0250000000
3023999.9750000001
