0.0500000000
0.0000000000
0.0000000000
-0.0500000000
338000.0250000000
3030999.9750000001
