0.0500000000
0.0000000000
0.0000000000
-0.0500000000
337000.0250000000
3025999.9750000001
