0.0500000000
0.0000000000
0.0000000000
-0.0500000000
334000.0250000000
3031999.9750000001
