0.0500000000
0.0000000000
0.0000000000
-0.0500000000
333000.0250000000
3038999.9750000001
