0.0500000000
0.0000000000
0.0000000000
-0.0500000000
333000.0250000000
3037999.9750000001
