0.0500000000
0.0000000000
0.0000000000
-0.0500000000
332000.0250000000
3041999.9750000001
