0.0500000000
0.0000000000
0.0000000000
-0.0500000000
331000.0250000000
3044999.9750000001
