0.0500000000
0.0000000000
0.0000000000
-0.0500000000
329000.0250000000
3055999.9750000001
