0.0500000000
0.0000000000
0.0000000000
-0.0500000000
329000.0250000000
3053999.9750000001
