0.0500000000
0.0000000000
0.0000000000
-0.0500000000
328000.0250000000
3054999.9750000001
