0.0500000000
0.0000000000
0.0000000000
-0.0500000000
326000.0250000000
3070999.9750000001
