0.0500000000
0.0000000000
0.0000000000
-0.0500000000
325000.0250000000
3076999.9750000001
