0.0500000000
0.0000000000
0.0000000000
-0.0500000000
324000.0250000000
3067999.9750000001
