0.0500000000
0.0000000000
0.0000000000
-0.0500000000
322000.0250000000
3071999.9750000001
