0.0500000000
0.0000000000
0.0000000000
-0.0500000000
318000.0250000000
3085999.9750000001
