0.0500000000
0.0000000000
0.0000000000
-0.0500000000
315000.0250000000
3081999.9750000001
