0.0500000000
0.0000000000
0.0000000000
-0.0500000000
399000.0250000000
2925999.9750000001
