0.0500000000
0.0000000000
0.0000000000
-0.0500000000
395000.0250000000
2923999.9750000001
