0.0500000000
0.0000000000
0.0000000000
-0.0500000000
391000.0250000000
2921999.9750000001
